BEGIN:VCALENDAR
VERSION:2.0
PRODID:-//lincolnikes.com//NONSGML kigkonsult.se iCalcreator 2.30.10//
CALSCALE:GREGORIAN
METHOD:PUBLISH
UID:063c1ad7-aafc-4f03-a42f-37a4df5cd2dc
X-WR-CALDESC:
X-WR-RELCALID:8d6ba41a02774c4633343b336f7d1078
X-WR-TIMEZONE:America/Chicago
BEGIN:VTIMEZONE
TZID:America/Chicago
BEGIN:STANDARD
TZNAME:CST
DTSTART:20221106T020000
TZOFFSETFROM:-0500
TZOFFSETTO:-0600
RDATE:20231105T020000
RDATE:20241103T020000
END:STANDARD
BEGIN:DAYLIGHT
TZNAME:CDT
DTSTART:20230312T020000
TZOFFSETFROM:-0600
TZOFFSETTO:-0500
RDATE:20240310T020000
END:DAYLIGHT
END:VTIMEZONE
BEGIN:VEVENT
UID:08c89b78-d7b6-41e2-b5f4-722c445a3df8
DTSTAMP:20260422T155254Z
DESCRIPTION:
DTSTART;TZID=America/Chicago:20230716T070000
DTEND;TZID=America/Chicago:20230716T150000
LOCATION:Lincoln Ikes Rifle Range 2
SUMMARY:ARA (Range 2)
END:VEVENT
END:VCALENDAR
