BEGIN:VCALENDAR
VERSION:2.0
PRODID:-//lincolnikes.com//NONSGML kigkonsult.se iCalcreator 2.30.10//
CALSCALE:GREGORIAN
METHOD:PUBLISH
UID:f73f8bb0-0eb4-4453-baf8-96dfc3ea95ca
X-WR-CALDESC:
X-WR-RELCALID:fa3175abd1f00a259fb3f1db922c6510
X-WR-TIMEZONE:America/Chicago
BEGIN:VTIMEZONE
TZID:America/Chicago
BEGIN:STANDARD
TZNAME:CST
DTSTART:20221106T020000
TZOFFSETFROM:-0500
TZOFFSETTO:-0600
RDATE:20231105T020000
RDATE:20241103T020000
END:STANDARD
BEGIN:DAYLIGHT
TZNAME:CDT
DTSTART:20230312T020000
TZOFFSETFROM:-0600
TZOFFSETTO:-0500
RDATE:20240310T020000
END:DAYLIGHT
END:VTIMEZONE
BEGIN:VEVENT
UID:ce229b04-470a-4358-b6b3-cb405d692a8f
DTSTAMP:20260422T161119Z
DESCRIPTION:
DTSTART;TZID=America/Chicago:20230716T080000
DTEND;TZID=America/Chicago:20230716T160000
LOCATION:
SUMMARY:IHMSA Handgun (Range 4)
END:VEVENT
END:VCALENDAR
