BEGIN:VCALENDAR
VERSION:2.0
PRODID:-//lincolnikes.com//NONSGML kigkonsult.se iCalcreator 2.30.10//
CALSCALE:GREGORIAN
METHOD:PUBLISH
UID:1795f139-5193-4d5d-b6aa-1a6ec60142b8
X-WR-CALDESC:
X-WR-RELCALID:4e26466de20f78e391b8b852d8042150
X-WR-TIMEZONE:America/Chicago
BEGIN:VTIMEZONE
TZID:America/Chicago
BEGIN:STANDARD
TZNAME:CST
DTSTART:20221106T020000
TZOFFSETFROM:-0500
TZOFFSETTO:-0600
RDATE:20231105T020000
RDATE:20241103T020000
END:STANDARD
BEGIN:DAYLIGHT
TZNAME:CDT
DTSTART:20230312T020000
TZOFFSETFROM:-0600
TZOFFSETTO:-0500
RDATE:20240310T020000
END:DAYLIGHT
END:VTIMEZONE
BEGIN:VEVENT
UID:e485c3f6-c463-40be-84fa-40c775ce237f
DTSTAMP:20260422T161751Z
DESCRIPTION:
DTSTART;TZID=America/Chicago:20230723T000000
DTEND;TZID=America/Chicago:20230723T235900
LOCATION:Rifle Range 4
SUMMARY:(5:00 - 8:00 p.m.) Pistol Range 3\, South 4 Lanes (7-Yard Lanes) Cl
 osed for Training Activity
END:VEVENT
END:VCALENDAR
