BEGIN:VCALENDAR
VERSION:2.0
PRODID:-//lincolnikes.com//NONSGML kigkonsult.se iCalcreator 2.30.10//
CALSCALE:GREGORIAN
METHOD:PUBLISH
UID:53b0edb7-9a62-498e-8ddd-70af34903c7b
X-WR-CALDESC:This event is held each year for our current Lincoln Ikes memb
 ers. \n\n6:00 p.m. Social\, and bar is available\n6:30 p.m. Dinner begins 
 with the speakers/entertainment to follow\n\nEvery 2023 Lincoln Ikes membe
 r is welcome to attend and bring a guest. Please RSVP by Wednesday\, July 
 19th\, to ikes.lincoln@gmail.com or 402.474.6555 so that we have a good id
 ea of how much food to provide. Can't wait to see you all!
X-WR-RELCALID:743969ad7c06478ccf04cacb8884663d
X-WR-TIMEZONE:America/Chicago
BEGIN:VTIMEZONE
TZID:America/Chicago
BEGIN:STANDARD
TZNAME:CST
DTSTART:20221106T020000
TZOFFSETFROM:-0500
TZOFFSETTO:-0600
RDATE:20231105T020000
RDATE:20241103T020000
END:STANDARD
BEGIN:DAYLIGHT
TZNAME:CDT
DTSTART:20230312T020000
TZOFFSETFROM:-0600
TZOFFSETTO:-0500
RDATE:20240310T020000
END:DAYLIGHT
END:VTIMEZONE
BEGIN:VEVENT
UID:ee504142-d38b-4aef-bd25-dcceb2057174
DTSTAMP:20260422T155939Z
DESCRIPTION:This event is held each year for our current Lincoln Ikes membe
 rs. \n\n6:00 p.m. Social\, and bar is available\n6:30 p.m. Dinner begins w
 ith the speakers/entertainment to follow\n\nEvery 2023 Lincoln Ikes member
  is welcome to attend and bring a guest. Please RSVP by Wednesday\, July 1
 9th\, to ikes.lincoln@gmail.com or 402.474.6555 so that we have a good ide
 a of how much food to provide. Can't wait to see you all!
DTSTART;TZID=America/Chicago:20230724T180000
DTEND;TZID=America/Chicago:20230724T210000
LOCATION:
SUMMARY:2023 Lincoln Ikes All Members Banquet
END:VEVENT
END:VCALENDAR
