BEGIN:VCALENDAR
VERSION:2.0
PRODID:-//lincolnikes.com//NONSGML kigkonsult.se iCalcreator 2.30.10//
CALSCALE:GREGORIAN
METHOD:PUBLISH
UID:fbdae383-8747-4b47-9936-f4051182d951
X-WR-CALDESC:
X-WR-RELCALID:6885998c2b6d80b2284285cb641f14a5
X-WR-TIMEZONE:America/Chicago
BEGIN:VTIMEZONE
TZID:America/Chicago
BEGIN:STANDARD
TZNAME:CST
DTSTART:20221106T020000
TZOFFSETFROM:-0500
TZOFFSETTO:-0600
RDATE:20231105T020000
RDATE:20241103T020000
END:STANDARD
BEGIN:DAYLIGHT
TZNAME:CDT
DTSTART:20230312T020000
TZOFFSETFROM:-0600
TZOFFSETTO:-0500
RDATE:20240310T020000
END:DAYLIGHT
END:VTIMEZONE
BEGIN:VEVENT
UID:0b7289a3-dde3-4ff6-92f9-f41cb7f000bb
DTSTAMP:20260422T162122Z
DESCRIPTION:
DTSTART;TZID=America/Chicago:20230726T190000
DTEND;TZID=America/Chicago:20230726T200000
LOCATION:
SUMMARY:Rifle/Pistol Committee Meeting (Clubhouse - Lonkoski)
END:VEVENT
END:VCALENDAR
