BEGIN:VCALENDAR
VERSION:2.0
PRODID:-//lincolnikes.com//NONSGML kigkonsult.se iCalcreator 2.30.10//
CALSCALE:GREGORIAN
METHOD:PUBLISH
UID:a78460b7-f4ae-41bb-8df4-def6e05bfa08
X-WR-CALDESC:
X-WR-RELCALID:730f7be398b786de1c82b564988e4808
X-WR-TIMEZONE:America/Chicago
BEGIN:VTIMEZONE
TZID:America/Chicago
BEGIN:STANDARD
TZNAME:CST
DTSTART:20221106T020000
TZOFFSETFROM:-0500
TZOFFSETTO:-0600
RDATE:20231105T020000
RDATE:20241103T020000
END:STANDARD
BEGIN:DAYLIGHT
TZNAME:CDT
DTSTART:20230312T020000
TZOFFSETFROM:-0600
TZOFFSETTO:-0500
RDATE:20240310T020000
END:DAYLIGHT
END:VTIMEZONE
BEGIN:VEVENT
UID:cfcdae34-3f1a-46eb-95da-8fe036b6a25f
DTSTAMP:20260422T162426Z
DESCRIPTION:
DTSTART;TZID=America/Chicago:20230727T180000
DTEND;TZID=America/Chicago:20230727T200000
LOCATION:Lincoln Ikes Rifle Range 4
SUMMARY:.22 Youth Silhouettes (Range 4)
END:VEVENT
END:VCALENDAR
