BEGIN:VCALENDAR
VERSION:2.0
PRODID:-//lincolnikes.com//NONSGML kigkonsult.se iCalcreator 2.30.10//
CALSCALE:GREGORIAN
METHOD:PUBLISH
UID:5d7cc311-3a25-41fe-93f0-b848098faad2
X-WR-CALDESC:
X-WR-RELCALID:18a57278b77cf5c6ef80b69cea0308f9
X-WR-TIMEZONE:America/Chicago
BEGIN:VTIMEZONE
TZID:America/Chicago
BEGIN:STANDARD
TZNAME:CST
DTSTART:20221106T020000
TZOFFSETFROM:-0500
TZOFFSETTO:-0600
RDATE:20231105T020000
RDATE:20241103T020000
END:STANDARD
BEGIN:DAYLIGHT
TZNAME:CDT
DTSTART:20230312T020000
TZOFFSETFROM:-0600
TZOFFSETTO:-0500
RDATE:20240310T020000
END:DAYLIGHT
END:VTIMEZONE
BEGIN:VEVENT
UID:b5490532-6813-4ddc-9bfe-289245072456
DTSTAMP:20260422T155959Z
DESCRIPTION:
DTSTART;TZID=America/Chicago:20230727T000000
DTEND;TZID=America/Chicago:20230729T235900
LOCATION:
SUMMARY:2023 Izaak Walton League National Convention
END:VEVENT
END:VCALENDAR
