BEGIN:VCALENDAR
VERSION:2.0
PRODID:-//lincolnikes.com//NONSGML kigkonsult.se iCalcreator 2.30.10//
CALSCALE:GREGORIAN
METHOD:PUBLISH
UID:616bbad0-0b84-444e-801d-f0db289901b2
X-WR-CALDESC:
X-WR-RELCALID:0472d2e048740d356b0af68e74d5d8c8
X-WR-TIMEZONE:America/Chicago
BEGIN:VTIMEZONE
TZID:America/Chicago
BEGIN:STANDARD
TZNAME:CST
DTSTART:20221106T020000
TZOFFSETFROM:-0500
TZOFFSETTO:-0600
RDATE:20231105T020000
RDATE:20241103T020000
END:STANDARD
BEGIN:DAYLIGHT
TZNAME:CDT
DTSTART:20230312T020000
TZOFFSETFROM:-0600
TZOFFSETTO:-0500
RDATE:20240310T020000
END:DAYLIGHT
END:VTIMEZONE
BEGIN:VEVENT
UID:86eaa69e-22a6-4de5-88c6-4dfb46564f18
DTSTAMP:20260422T155305Z
DESCRIPTION:
DTSTART;TZID=America/Chicago:20230730T063000
DTEND;TZID=America/Chicago:20230730T150000
LOCATION:Lincoln Ikes Rifle Range 4
SUMMARY:Cornhusker State Games .22 Silhouettes (Range 4)
END:VEVENT
END:VCALENDAR
