BEGIN:VCALENDAR
VERSION:2.0
PRODID:-//lincolnikes.com//NONSGML kigkonsult.se iCalcreator 2.30.10//
CALSCALE:GREGORIAN
METHOD:PUBLISH
UID:da9e66ea-62fd-4f13-82cc-3eea9ef41bd8
X-WR-CALDESC:Please register for any Hunter Education program through the N
 ebraska Game & Parks website at: https://www.register-ed.com/programs/nebr
 aska/156
X-WR-RELCALID:02deb514639469e4921c27882233a261
X-WR-TIMEZONE:America/Chicago
BEGIN:VTIMEZONE
TZID:America/Chicago
BEGIN:STANDARD
TZNAME:CST
DTSTART:20221106T020000
TZOFFSETFROM:-0500
TZOFFSETTO:-0600
RDATE:20231105T020000
RDATE:20241103T020000
END:STANDARD
BEGIN:DAYLIGHT
TZNAME:CDT
DTSTART:20230312T020000
TZOFFSETFROM:-0600
TZOFFSETTO:-0500
RDATE:20240310T020000
END:DAYLIGHT
END:VTIMEZONE
BEGIN:VEVENT
UID:e08d7c36-d5ec-4241-b402-72901a04cbe8
DTSTAMP:20260422T174828Z
DESCRIPTION:Please register for any Hunter Education program through the Ne
 braska Game & Parks website at: https://www.register-ed.com/programs/nebra
 ska/156
DTSTART;TZID=America/Chicago:20230809T183000
DTEND;TZID=America/Chicago:20230809T203000
LOCATION:10801 South 134th Street\, Bennet\, NE 68317 US
SUMMARY:Hunter Education (Clubhhouse)
END:VEVENT
END:VCALENDAR
