BEGIN:VCALENDAR
VERSION:2.0
PRODID:-//lincolnikes.com//NONSGML kigkonsult.se iCalcreator 2.30.10//
CALSCALE:GREGORIAN
METHOD:PUBLISH
UID:acbfb274-f8b9-418e-8447-00c48fd3b1bf
X-WR-CALDESC:
X-WR-RELCALID:d610f7ea87c9aee4e2d939b378b60267
X-WR-TIMEZONE:America/Chicago
BEGIN:VTIMEZONE
TZID:America/Chicago
BEGIN:STANDARD
TZNAME:CST
DTSTART:20221106T020000
TZOFFSETFROM:-0500
TZOFFSETTO:-0600
RDATE:20231105T020000
RDATE:20241103T020000
END:STANDARD
BEGIN:DAYLIGHT
TZNAME:CDT
DTSTART:20230312T020000
TZOFFSETFROM:-0600
TZOFFSETTO:-0500
RDATE:20240310T020000
END:DAYLIGHT
END:VTIMEZONE
BEGIN:VEVENT
UID:92f35aba-a280-47d5-b594-6151edee6457
DTSTAMP:20260422T175056Z
DESCRIPTION:
DTSTART;TZID=America/Chicago:20230812T120000
DTEND;TZID=America/Chicago:20230812T183000
LOCATION:Lincoln Ikes Rifle Range 4
SUMMARY:12:00noon - Sunset: Bowling Pin Match (Range 4)
END:VEVENT
END:VCALENDAR
