BEGIN:VCALENDAR
VERSION:2.0
PRODID:-//lincolnikes.com//NONSGML kigkonsult.se iCalcreator 2.30.10//
CALSCALE:GREGORIAN
METHOD:PUBLISH
UID:feed269a-61bd-438f-8100-e0f3544d45e3
X-WR-CALDESC:
X-WR-RELCALID:53bad2a8a870853ba1ea9dca4431022f
X-WR-TIMEZONE:America/Chicago
BEGIN:VTIMEZONE
TZID:America/Chicago
BEGIN:STANDARD
TZNAME:CST
DTSTART:20221106T020000
TZOFFSETFROM:-0500
TZOFFSETTO:-0600
RDATE:20231105T020000
RDATE:20241103T020000
END:STANDARD
BEGIN:DAYLIGHT
TZNAME:CDT
DTSTART:20230312T020000
TZOFFSETFROM:-0600
TZOFFSETTO:-0500
RDATE:20240310T020000
END:DAYLIGHT
END:VTIMEZONE
BEGIN:VEVENT
UID:b93b3073-2862-400e-bcb2-2aa18712f114
DTSTAMP:20260422T175357Z
DESCRIPTION:
DTSTART;TZID=America/Chicago:20230813T000000
DTEND;TZID=America/Chicago:20230813T235900
LOCATION:Pistol Range 3
SUMMARY:(5:00 - 8:00 p.m.) Pistol Range 3\, South 4 Lanes (7-Yard Lanes) Cl
 osed for Training Activity
END:VEVENT
END:VCALENDAR
