BEGIN:VCALENDAR
VERSION:2.0
PRODID:-//lincolnikes.com//NONSGML kigkonsult.se iCalcreator 2.30.10//
CALSCALE:GREGORIAN
METHOD:PUBLISH
UID:14f00435-c232-4093-89e4-ad25214c936f
X-WR-CALDESC:
X-WR-RELCALID:6bac4fb5643bbd562df1bc60c05c1841
X-WR-TIMEZONE:America/Chicago
BEGIN:VTIMEZONE
TZID:America/Chicago
BEGIN:STANDARD
TZNAME:CST
DTSTART:20221106T020000
TZOFFSETFROM:-0500
TZOFFSETTO:-0600
RDATE:20231105T020000
RDATE:20241103T020000
END:STANDARD
BEGIN:DAYLIGHT
TZNAME:CDT
DTSTART:20230312T020000
TZOFFSETFROM:-0600
TZOFFSETTO:-0500
RDATE:20240310T020000
END:DAYLIGHT
END:VTIMEZONE
BEGIN:VEVENT
UID:ae9dbd03-b8b7-468a-a635-4c47d1bb11c7
DTSTAMP:20260422T172938Z
DESCRIPTION:
DTSTART;TZID=America/Chicago:20230820T070000
DTEND;TZID=America/Chicago:20230820T150000
LOCATION:Lincoln Ikes Rifle Range 2
SUMMARY:ARA (Range 2)
END:VEVENT
END:VCALENDAR
