BEGIN:VCALENDAR
VERSION:2.0
PRODID:-//lincolnikes.com//NONSGML kigkonsult.se iCalcreator 2.30.10//
CALSCALE:GREGORIAN
METHOD:PUBLISH
UID:7e3aff42-0a6b-4c8b-a0ff-6e2a2f8ac5a5
X-WR-CALDESC:
X-WR-RELCALID:0f26ce217e28af10ad96afe6f8ee2c54
X-WR-TIMEZONE:America/Chicago
BEGIN:VTIMEZONE
TZID:America/Chicago
BEGIN:STANDARD
TZNAME:CST
DTSTART:20221106T020000
TZOFFSETFROM:-0500
TZOFFSETTO:-0600
RDATE:20231105T020000
RDATE:20241103T020000
END:STANDARD
BEGIN:DAYLIGHT
TZNAME:CDT
DTSTART:20230312T020000
TZOFFSETFROM:-0600
TZOFFSETTO:-0500
RDATE:20240310T020000
END:DAYLIGHT
END:VTIMEZONE
BEGIN:VEVENT
UID:d60845f5-fa0f-4e39-acf4-39193d4c13e5
DTSTAMP:20260422T174743Z
DESCRIPTION:
DTSTART;TZID=America/Chicago:20230820T080000
DTEND;TZID=America/Chicago:20230820T160000
LOCATION:
SUMMARY:IHMSA Handgun (Range 4)
END:VEVENT
END:VCALENDAR
