BEGIN:VCALENDAR
VERSION:2.0
PRODID:-//lincolnikes.com//NONSGML kigkonsult.se iCalcreator 2.30.10//
CALSCALE:GREGORIAN
METHOD:PUBLISH
UID:c4f826fd-8de7-4557-bd13-e03062cc58ea
X-WR-CALDESC:
X-WR-RELCALID:0ce1ec273711a20db2cd10092b72e09e
X-WR-TIMEZONE:America/Chicago
BEGIN:VTIMEZONE
TZID:America/Chicago
BEGIN:STANDARD
TZNAME:CST
DTSTART:20221106T020000
TZOFFSETFROM:-0500
TZOFFSETTO:-0600
RDATE:20231105T020000
RDATE:20241103T020000
END:STANDARD
BEGIN:DAYLIGHT
TZNAME:CDT
DTSTART:20230312T020000
TZOFFSETFROM:-0600
TZOFFSETTO:-0500
RDATE:20240310T020000
END:DAYLIGHT
END:VTIMEZONE
BEGIN:VEVENT
UID:9954eb4f-43bb-4275-b601-7e745fef2086
DTSTAMP:20260422T175004Z
DESCRIPTION:
DTSTART;TZID=America/Chicago:20230824T180000
DTEND;TZID=America/Chicago:20230824T200000
LOCATION:Lincoln Ikes Rifle Range 4
SUMMARY:.22 Youth Silhouettes (Range 4)
END:VEVENT
END:VCALENDAR
