BEGIN:VCALENDAR
VERSION:2.0
PRODID:-//lincolnikes.com//NONSGML kigkonsult.se iCalcreator 2.30.10//
CALSCALE:GREGORIAN
METHOD:PUBLISH
UID:7d146bed-4c9f-43f2-ac73-29abf5f77512
X-WR-CALDESC:
X-WR-RELCALID:87d5090c28b3fd839b7cea2700876a6f
X-WR-TIMEZONE:America/Chicago
BEGIN:VTIMEZONE
TZID:America/Chicago
BEGIN:STANDARD
TZNAME:CST
DTSTART:20221106T020000
TZOFFSETFROM:-0500
TZOFFSETTO:-0600
RDATE:20231105T020000
RDATE:20241103T020000
END:STANDARD
BEGIN:DAYLIGHT
TZNAME:CDT
DTSTART:20230312T020000
TZOFFSETFROM:-0600
TZOFFSETTO:-0500
RDATE:20240310T020000
END:DAYLIGHT
END:VTIMEZONE
BEGIN:VEVENT
UID:f3864745-69bc-417e-ae2b-8328b1c6307b
DTSTAMP:20260422T174611Z
DESCRIPTION:
DTSTART;TZID=America/Chicago:20230825T080000
DTEND;TZID=America/Chicago:20230825T170000
LOCATION:Lincoln Ikes Rifle Range 4
SUMMARY:NBRSA Match Setup & Pre-match Practice (Range 4 - Shultz)
END:VEVENT
END:VCALENDAR
