BEGIN:VCALENDAR
VERSION:2.0
PRODID:-//lincolnikes.com//NONSGML kigkonsult.se iCalcreator 2.30.10//
CALSCALE:GREGORIAN
METHOD:PUBLISH
UID:fe29caac-864b-4c80-bd60-df900ad30718
X-WR-CALDESC:
X-WR-RELCALID:4cba28b2d90162ed621cbf9c0bfa17ba
X-WR-TIMEZONE:America/Chicago
BEGIN:VTIMEZONE
TZID:America/Chicago
BEGIN:STANDARD
TZNAME:CST
DTSTART:20221106T020000
TZOFFSETFROM:-0500
TZOFFSETTO:-0600
RDATE:20231105T020000
RDATE:20241103T020000
END:STANDARD
BEGIN:DAYLIGHT
TZNAME:CDT
DTSTART:20230312T020000
TZOFFSETFROM:-0600
TZOFFSETTO:-0500
RDATE:20240310T020000
END:DAYLIGHT
END:VTIMEZONE
BEGIN:VEVENT
UID:1467a87b-da21-42ae-a8c7-18b748c5ee69
DTSTAMP:20260422T175621Z
DESCRIPTION:
DTSTART;TZID=America/Chicago:20230830T190000
DTEND;TZID=America/Chicago:20230830T200000
LOCATION:
SUMMARY:Rifle/Pistol Committee Meeting (Clubhouse - Lonkoski)
END:VEVENT
END:VCALENDAR
