BEGIN:VCALENDAR
VERSION:2.0
PRODID:-//lincolnikes.com//NONSGML kigkonsult.se iCalcreator 2.30.10//
CALSCALE:GREGORIAN
METHOD:PUBLISH
UID:581d84ca-adc9-4cd8-a7a1-0ca39e2867f3
X-WR-CALDESC:
X-WR-RELCALID:a990b1c683b1620e0fffdf363432b0bc
X-WR-TIMEZONE:America/Chicago
BEGIN:VTIMEZONE
TZID:America/Chicago
BEGIN:STANDARD
TZNAME:CST
DTSTART:20221106T020000
TZOFFSETFROM:-0500
TZOFFSETTO:-0600
RDATE:20231105T020000
RDATE:20241103T020000
END:STANDARD
BEGIN:DAYLIGHT
TZNAME:CDT
DTSTART:20230312T020000
TZOFFSETFROM:-0600
TZOFFSETTO:-0500
RDATE:20240310T020000
END:DAYLIGHT
END:VTIMEZONE
BEGIN:VEVENT
UID:606b8903-a9ab-406b-9192-1837fce8fa3b
DTSTAMP:20260422T192507Z
DESCRIPTION:
DTSTART;TZID=America/Chicago:20230902T080000
DTEND;TZID=America/Chicago:20230902T150000
LOCATION:
SUMMARY:Club Benchrest 300-Yard (Range 4)
END:VEVENT
END:VCALENDAR
