BEGIN:VCALENDAR
VERSION:2.0
PRODID:-//lincolnikes.com//NONSGML kigkonsult.se iCalcreator 2.30.10//
CALSCALE:GREGORIAN
METHOD:PUBLISH
UID:992ecb50-0663-43b0-9355-b6c0917577cb
X-WR-CALDESC:*Range 4 is only open to our members during these special sche
 duled times. During adverse weather conditions\, please contact the RSO to
  make sure that this scheduled time is still on.
X-WR-RELCALID:90f8b1738437393f988b5958d31c2952
X-WR-TIMEZONE:America/Chicago
BEGIN:VTIMEZONE
TZID:America/Chicago
BEGIN:STANDARD
TZNAME:CST
DTSTART:20221106T020000
TZOFFSETFROM:-0500
TZOFFSETTO:-0600
RDATE:20231105T020000
RDATE:20241103T020000
END:STANDARD
BEGIN:DAYLIGHT
TZNAME:CDT
DTSTART:20230312T020000
TZOFFSETFROM:-0600
TZOFFSETTO:-0500
RDATE:20240310T020000
END:DAYLIGHT
END:VTIMEZONE
BEGIN:VEVENT
UID:cdf6dcb3-8073-49a5-9a9f-5f8a3b996770
DTSTAMP:20260422T192332Z
DESCRIPTION:*Range 4 is only open to our members during these special sched
 uled times. During adverse weather conditions\, please contact the RSO to 
 make sure that this scheduled time is still on.
DTSTART;TZID=America/Chicago:20230903T170000
DTEND;TZID=America/Chicago:20230903T195500
LOCATION:Lincoln Ikes Rifle Range 4
SUMMARY:Members 300-Yard Range Practice (Range 4) (Lonkoski)
END:VEVENT
END:VCALENDAR
