BEGIN:VCALENDAR
VERSION:2.0
PRODID:-//lincolnikes.com//NONSGML kigkonsult.se iCalcreator 2.30.10//
CALSCALE:GREGORIAN
METHOD:PUBLISH
UID:dd0617a4-36ea-4268-b161-189ee2eed083
X-WR-CALDESC:
X-WR-RELCALID:eee71eb73765f115b72bd7d14493604e
X-WR-TIMEZONE:America/Chicago
BEGIN:VTIMEZONE
TZID:America/Chicago
BEGIN:STANDARD
TZNAME:CST
DTSTART:20221106T020000
TZOFFSETFROM:-0500
TZOFFSETTO:-0600
RDATE:20231105T020000
RDATE:20241103T020000
END:STANDARD
BEGIN:DAYLIGHT
TZNAME:CDT
DTSTART:20230312T020000
TZOFFSETFROM:-0600
TZOFFSETTO:-0500
RDATE:20240310T020000
END:DAYLIGHT
END:VTIMEZONE
BEGIN:VEVENT
UID:e1491f3c-3e34-436d-9b1e-6590d3ca5d9b
DTSTAMP:20260422T192825Z
DESCRIPTION:
DTSTART;TZID=America/Chicago:20230906T100000
DTEND;TZID=America/Chicago:20230906T130000
LOCATION:Lincoln Ikes Clubhouse
SUMMARY:Office Open (Clubhouse)
END:VEVENT
END:VCALENDAR
