BEGIN:VCALENDAR
VERSION:2.0
PRODID:-//lincolnikes.com//NONSGML kigkonsult.se iCalcreator 2.30.10//
CALSCALE:GREGORIAN
METHOD:PUBLISH
UID:3a450959-686c-4ded-9a56-b1f348ebb852
X-WR-CALDESC:
X-WR-RELCALID:44d85a48daa46c29c51ddec475e80c77
X-WR-TIMEZONE:America/Chicago
BEGIN:VTIMEZONE
TZID:America/Chicago
BEGIN:STANDARD
TZNAME:CST
DTSTART:20221106T020000
TZOFFSETFROM:-0500
TZOFFSETTO:-0600
RDATE:20231105T020000
RDATE:20241103T020000
END:STANDARD
BEGIN:DAYLIGHT
TZNAME:CDT
DTSTART:20230312T020000
TZOFFSETFROM:-0600
TZOFFSETTO:-0500
RDATE:20240310T020000
RDATE:20250309T020000
END:DAYLIGHT
END:VTIMEZONE
BEGIN:VEVENT
UID:d9b3ad0a-f144-4dbc-a3bd-7da63818afe2
DTSTAMP:20260422T193003Z
DESCRIPTION:
DTSTART;TZID=America/Chicago:20230910T000000
DTEND;TZID=America/Chicago:20230910T235900
LOCATION:Pistol Range 3
SUMMARY:(5:00 - 8:00 p.m.) Pistol Range 3\, South 4 Lanes (7-Yard Lanes) Cl
 osed for Training Activity
END:VEVENT
END:VCALENDAR
