BEGIN:VCALENDAR
VERSION:2.0
PRODID:-//lincolnikes.com//NONSGML kigkonsult.se iCalcreator 2.30.10//
CALSCALE:GREGORIAN
METHOD:PUBLISH
UID:0ad79843-9924-47f9-a42f-02e7a8d153a5
X-WR-CALDESC:
X-WR-RELCALID:af92c9db0ad2c48e52d7cfc77e42a4ae
X-WR-TIMEZONE:America/Chicago
BEGIN:VTIMEZONE
TZID:America/Chicago
BEGIN:STANDARD
TZNAME:CST
DTSTART:20221106T020000
TZOFFSETFROM:-0500
TZOFFSETTO:-0600
RDATE:20231105T020000
RDATE:20241103T020000
END:STANDARD
BEGIN:DAYLIGHT
TZNAME:CDT
DTSTART:20230312T020000
TZOFFSETFROM:-0600
TZOFFSETTO:-0500
RDATE:20240310T020000
RDATE:20250309T020000
END:DAYLIGHT
END:VTIMEZONE
BEGIN:VEVENT
UID:e6c0fd6d-d8c1-42e1-8e98-8013086d9a8f
DTSTAMP:20260422T192611Z
DESCRIPTION:
DTSTART;TZID=America/Chicago:20230912T000000
DTEND;TZID=America/Chicago:20230912T235900
LOCATION:Rifle Range 4
SUMMARY:(5:00 - 7:00 p.m.) Rifle Range 4 Closed for Training Activity
END:VEVENT
END:VCALENDAR
