BEGIN:VCALENDAR
VERSION:2.0
PRODID:-//lincolnikes.com//NONSGML kigkonsult.se iCalcreator 2.30.10//
CALSCALE:GREGORIAN
METHOD:PUBLISH
UID:733a624e-de5e-44e8-b17c-4d3f6e725963
X-WR-CALDESC:Weather permitting. If we should have some inclement weather\,
  this practice time will be canceled. Feel free to call RSO Dewey to verif
 y.
X-WR-RELCALID:92872bc8618688f29e7af417f5355e47
X-WR-TIMEZONE:America/Chicago
BEGIN:VTIMEZONE
TZID:America/Chicago
BEGIN:STANDARD
TZNAME:CST
DTSTART:20221106T020000
TZOFFSETFROM:-0500
TZOFFSETTO:-0600
RDATE:20231105T020000
RDATE:20241103T020000
END:STANDARD
BEGIN:DAYLIGHT
TZNAME:CDT
DTSTART:20230312T020000
TZOFFSETFROM:-0600
TZOFFSETTO:-0500
RDATE:20240310T020000
RDATE:20250309T020000
END:DAYLIGHT
END:VTIMEZONE
BEGIN:VEVENT
UID:aa843615-5bc3-475e-b254-912f37882440
DTSTAMP:20260422T192257Z
DESCRIPTION:Weather permitting. If we should have some inclement weather\, 
 this practice time will be canceled. Feel free to call RSO Dewey to verify
 .
DTSTART;TZID=America/Chicago:20230912T090000
DTEND;TZID=America/Chicago:20230912T130000
LOCATION:300-Yard / Rifle Range 4
SUMMARY:Members 300-Yard Range Practice (Range 4 - Dewey)
END:VEVENT
END:VCALENDAR
