BEGIN:VCALENDAR
VERSION:2.0
PRODID:-//lincolnikes.com//NONSGML kigkonsult.se iCalcreator 2.30.10//
CALSCALE:GREGORIAN
METHOD:PUBLISH
UID:82fdd1e0-13e4-4da0-9954-2660333ed443
X-WR-CALDESC:
X-WR-RELCALID:fa1bb9f1adf108b4110fb04ae6109d40
X-WR-TIMEZONE:America/Chicago
BEGIN:VTIMEZONE
TZID:America/Chicago
BEGIN:STANDARD
TZNAME:CST
DTSTART:20221106T020000
TZOFFSETFROM:-0500
TZOFFSETTO:-0600
RDATE:20231105T020000
RDATE:20241103T020000
END:STANDARD
BEGIN:DAYLIGHT
TZNAME:CDT
DTSTART:20230312T020000
TZOFFSETFROM:-0600
TZOFFSETTO:-0500
RDATE:20240310T020000
RDATE:20250309T020000
END:DAYLIGHT
END:VTIMEZONE
BEGIN:VEVENT
UID:21acaba6-6cba-4a1d-80e6-0202ae18f586
DTSTAMP:20260422T193317Z
DESCRIPTION:
DTSTART;TZID=America/Chicago:20230912T183000
DTEND;TZID=America/Chicago:20230912T191500
LOCATION:
SUMMARY:Corporate Board of Directors Meeting (Clubhouse)
END:VEVENT
END:VCALENDAR
