BEGIN:VCALENDAR
VERSION:2.0
PRODID:-//lincolnikes.com//NONSGML kigkonsult.se iCalcreator 2.30.10//
CALSCALE:GREGORIAN
METHOD:PUBLISH
UID:a9ed0bcd-ac9c-4cfd-a9c4-29063f307390
X-WR-CALDESC:
X-WR-RELCALID:8dbd0f6eed223a31e238c5f59dc42b89
X-WR-TIMEZONE:America/Chicago
BEGIN:VTIMEZONE
TZID:America/Chicago
BEGIN:STANDARD
TZNAME:CST
DTSTART:20221106T020000
TZOFFSETFROM:-0500
TZOFFSETTO:-0600
RDATE:20231105T020000
RDATE:20241103T020000
END:STANDARD
BEGIN:DAYLIGHT
TZNAME:CDT
DTSTART:20230312T020000
TZOFFSETFROM:-0600
TZOFFSETTO:-0500
RDATE:20240310T020000
RDATE:20250309T020000
END:DAYLIGHT
END:VTIMEZONE
BEGIN:VEVENT
UID:ba171172-bc2c-4285-89ba-6d1a09d65252
DTSTAMP:20260422T192611Z
DESCRIPTION:
DTSTART;TZID=America/Chicago:20230913T000000
DTEND;TZID=America/Chicago:20230913T235900
LOCATION:Rifle Range 4
SUMMARY:(5:00 - 7:00 p.m.) Rifle Range 4 Closed for Training Activity
END:VEVENT
END:VCALENDAR
