BEGIN:VCALENDAR
VERSION:2.0
PRODID:-//lincolnikes.com//NONSGML kigkonsult.se iCalcreator 2.30.10//
CALSCALE:GREGORIAN
METHOD:PUBLISH
UID:3e6135b4-203b-4ef6-b9e0-bf1aa3219e44
X-WR-CALDESC:
X-WR-RELCALID:6d1e8454c00827bf9b7b2970aa56c056
X-WR-TIMEZONE:America/Chicago
BEGIN:VTIMEZONE
TZID:America/Chicago
BEGIN:STANDARD
TZNAME:CST
DTSTART:20221106T020000
TZOFFSETFROM:-0500
TZOFFSETTO:-0600
RDATE:20231105T020000
RDATE:20241103T020000
END:STANDARD
BEGIN:DAYLIGHT
TZNAME:CDT
DTSTART:20230312T020000
TZOFFSETFROM:-0600
TZOFFSETTO:-0500
RDATE:20240310T020000
RDATE:20250309T020000
END:DAYLIGHT
END:VTIMEZONE
BEGIN:VEVENT
UID:829ee8c0-7767-42d2-825e-bf0f1fa477ba
DTSTAMP:20260422T192825Z
DESCRIPTION:
DTSTART;TZID=America/Chicago:20230916T070000
DTEND;TZID=America/Chicago:20230916T150000
LOCATION:Lincoln Ikes Rifle Ranges 1 & 4
SUMMARY:UML 2-Gun Competition (Ranges 1 & 4 - Zunaibi)
END:VEVENT
END:VCALENDAR
