BEGIN:VCALENDAR
VERSION:2.0
PRODID:-//lincolnikes.com//NONSGML kigkonsult.se iCalcreator 2.30.10//
CALSCALE:GREGORIAN
METHOD:PUBLISH
UID:d5717905-768c-46d0-bce9-37a30edd5e03
X-WR-CALDESC:
X-WR-RELCALID:47395c3ca66221e4a7f65c237ab2b186
X-WR-TIMEZONE:America/Chicago
BEGIN:VTIMEZONE
TZID:America/Chicago
BEGIN:STANDARD
TZNAME:CST
DTSTART:20221106T020000
TZOFFSETFROM:-0500
TZOFFSETTO:-0600
RDATE:20231105T020000
RDATE:20241103T020000
END:STANDARD
BEGIN:DAYLIGHT
TZNAME:CDT
DTSTART:20230312T020000
TZOFFSETFROM:-0600
TZOFFSETTO:-0500
RDATE:20240310T020000
RDATE:20250309T020000
END:DAYLIGHT
END:VTIMEZONE
BEGIN:VEVENT
UID:dde7f74a-2648-4ee5-8165-56779bf3c8d4
DTSTAMP:20260422T193003Z
DESCRIPTION:
DTSTART;TZID=America/Chicago:20230917T140000
DTEND;TZID=America/Chicago:20230917T173000
LOCATION:Lincoln Ikes Clubhouse and Traps 3 & 4
SUMMARY:Southwest Trap Open House (Clubhouse & Traps 3 & 4)
END:VEVENT
END:VCALENDAR
