BEGIN:VCALENDAR
VERSION:2.0
PRODID:-//lincolnikes.com//NONSGML kigkonsult.se iCalcreator 2.30.10//
CALSCALE:GREGORIAN
METHOD:PUBLISH
UID:d26539f1-0491-452d-bf3d-d388cd1efb3c
X-WR-CALDESC:
X-WR-RELCALID:e372c07205dfaee383ed68203cfdcf36
X-WR-TIMEZONE:America/Chicago
BEGIN:VTIMEZONE
TZID:America/Chicago
BEGIN:STANDARD
TZNAME:CST
DTSTART:20221106T020000
TZOFFSETFROM:-0500
TZOFFSETTO:-0600
RDATE:20231105T020000
RDATE:20241103T020000
END:STANDARD
BEGIN:DAYLIGHT
TZNAME:CDT
DTSTART:20230312T020000
TZOFFSETFROM:-0600
TZOFFSETTO:-0500
RDATE:20240310T020000
RDATE:20250309T020000
END:DAYLIGHT
END:VTIMEZONE
BEGIN:VEVENT
UID:c4891255-fbdb-4355-87d9-2c6477f0ed34
DTSTAMP:20260422T192912Z
DESCRIPTION:
DTSTART;TZID=America/Chicago:20230920T100000
DTEND;TZID=America/Chicago:20230920T130000
LOCATION:Lincoln Ikes Clubhouse
SUMMARY:Office Open (Clubhouse)
END:VEVENT
END:VCALENDAR
