BEGIN:VCALENDAR
VERSION:2.0
PRODID:-//lincolnikes.com//NONSGML kigkonsult.se iCalcreator 2.30.10//
CALSCALE:GREGORIAN
METHOD:PUBLISH
UID:048729b3-37d1-451b-8660-39d302a22ce8
X-WR-CALDESC:
X-WR-RELCALID:917355813108f3ba5d72e87b0a089de7
X-WR-TIMEZONE:America/Chicago
BEGIN:VTIMEZONE
TZID:America/Chicago
BEGIN:STANDARD
TZNAME:CST
DTSTART:20221106T020000
TZOFFSETFROM:-0500
TZOFFSETTO:-0600
RDATE:20231105T020000
RDATE:20241103T020000
END:STANDARD
BEGIN:DAYLIGHT
TZNAME:CDT
DTSTART:20230312T020000
TZOFFSETFROM:-0600
TZOFFSETTO:-0500
RDATE:20240310T020000
RDATE:20250309T020000
END:DAYLIGHT
END:VTIMEZONE
BEGIN:VEVENT
UID:19df12be-5d4b-4f25-8503-67c711cb94c6
DTSTAMP:20260422T192933Z
DESCRIPTION:
DTSTART;TZID=America/Chicago:20230921T180000
DTEND;TZID=America/Chicago:20230921T220000
LOCATION:Lincoln Ikes Trap Range & Clubhouse
SUMMARY:Ikes Fall Trap League (All Traps & Clubhouse)
END:VEVENT
END:VCALENDAR
