BEGIN:VCALENDAR
VERSION:2.0
PRODID:-//lincolnikes.com//NONSGML kigkonsult.se iCalcreator 2.30.10//
CALSCALE:GREGORIAN
METHOD:PUBLISH
UID:28d1b9f6-eedd-4711-9374-5a239e3d5733
X-WR-CALDESC:
X-WR-RELCALID:0d2d799ff1e0d34093195e56861123f4
X-WR-TIMEZONE:America/Chicago
BEGIN:VTIMEZONE
TZID:America/Chicago
BEGIN:STANDARD
TZNAME:CST
DTSTART:20221106T020000
TZOFFSETFROM:-0500
TZOFFSETTO:-0600
RDATE:20231105T020000
RDATE:20241103T020000
END:STANDARD
BEGIN:DAYLIGHT
TZNAME:CDT
DTSTART:20230312T020000
TZOFFSETFROM:-0600
TZOFFSETTO:-0500
RDATE:20240310T020000
RDATE:20250309T020000
END:DAYLIGHT
END:VTIMEZONE
BEGIN:VEVENT
UID:214e3f2a-db76-41cc-9e4e-77f15f95cf72
DTSTAMP:20260422T192422Z
DESCRIPTION:
DTSTART;TZID=America/Chicago:20230924T123000
DTEND;TZID=America/Chicago:20230924T170000
LOCATION:Rifle Range 1 (25-50-75 Yards)
SUMMARY:Boy Scouts Rifle Merit Badge (Range 1)
END:VEVENT
END:VCALENDAR
