BEGIN:VCALENDAR
VERSION:2.0
PRODID:-//lincolnikes.com//NONSGML kigkonsult.se iCalcreator 2.30.10//
CALSCALE:GREGORIAN
METHOD:PUBLISH
UID:29f7b446-f3c0-4013-8140-8dc103950a5a
X-WR-CALDESC:
X-WR-RELCALID:bb817c2c58d03d2136fe0c622e1a6f9a
X-WR-TIMEZONE:America/Chicago
BEGIN:VTIMEZONE
TZID:America/Chicago
BEGIN:STANDARD
TZNAME:CST
DTSTART:20221106T020000
TZOFFSETFROM:-0500
TZOFFSETTO:-0600
RDATE:20231105T020000
RDATE:20241103T020000
END:STANDARD
BEGIN:DAYLIGHT
TZNAME:CDT
DTSTART:20230312T020000
TZOFFSETFROM:-0600
TZOFFSETTO:-0500
RDATE:20240310T020000
RDATE:20250309T020000
END:DAYLIGHT
END:VTIMEZONE
BEGIN:VEVENT
UID:d1813d90-6b48-4ac9-9ba7-470527e387f0
DTSTAMP:20260422T212522Z
DESCRIPTION:
DTSTART;TZID=America/Chicago:20231001T000000
DTEND;TZID=America/Chicago:20231001T235900
LOCATION:Lincoln Ikes Trap Range & Clubhouse
SUMMARY:Lincoln Ikes  ATA Trap Shoot (All Traps & Clubhouse)
END:VEVENT
END:VCALENDAR
