BEGIN:VCALENDAR
VERSION:2.0
PRODID:-//lincolnikes.com//NONSGML kigkonsult.se iCalcreator 2.30.10//
CALSCALE:GREGORIAN
METHOD:PUBLISH
UID:71f6010b-200d-4cbe-9c41-5d0d63385b06
X-WR-CALDESC:
X-WR-RELCALID:c1fd75f8d78b83ce6c2a02755a59a6c3
X-WR-TIMEZONE:America/Chicago
BEGIN:VTIMEZONE
TZID:America/Chicago
BEGIN:STANDARD
TZNAME:CST
DTSTART:20221106T020000
TZOFFSETFROM:-0500
TZOFFSETTO:-0600
RDATE:20231105T020000
RDATE:20241103T020000
END:STANDARD
BEGIN:DAYLIGHT
TZNAME:CDT
DTSTART:20230312T020000
TZOFFSETFROM:-0600
TZOFFSETTO:-0500
RDATE:20240310T020000
RDATE:20250309T020000
END:DAYLIGHT
END:VTIMEZONE
BEGIN:VEVENT
UID:0d6b0fdb-14fe-4760-af51-dc073da50a5d
DTSTAMP:20260422T212245Z
DESCRIPTION:
DTSTART;TZID=America/Chicago:20231007T080000
DTEND;TZID=America/Chicago:20231007T150000
LOCATION:
SUMMARY:Club Benchrest 300-Yard (Range 4)
END:VEVENT
END:VCALENDAR
