BEGIN:VCALENDAR
VERSION:2.0
PRODID:-//lincolnikes.com//NONSGML kigkonsult.se iCalcreator 2.30.10//
CALSCALE:GREGORIAN
METHOD:PUBLISH
UID:a5f2e1fe-333e-4ae2-a565-109e3aa96241
X-WR-CALDESC:
X-WR-RELCALID:5dd245588f97afe07ed49192176a84ef
X-WR-TIMEZONE:America/Chicago
BEGIN:VTIMEZONE
TZID:America/Chicago
BEGIN:STANDARD
TZNAME:CST
DTSTART:20221106T020000
TZOFFSETFROM:-0500
TZOFFSETTO:-0600
RDATE:20231105T020000
RDATE:20241103T020000
END:STANDARD
BEGIN:DAYLIGHT
TZNAME:CDT
DTSTART:20230312T020000
TZOFFSETFROM:-0600
TZOFFSETTO:-0500
RDATE:20240310T020000
RDATE:20250309T020000
END:DAYLIGHT
END:VTIMEZONE
BEGIN:VEVENT
UID:189b795b-8c30-454c-9b06-e62f83e4b449
DTSTAMP:20260422T212641Z
DESCRIPTION:
DTSTART;TZID=America/Chicago:20231011T000000
DTEND;TZID=America/Chicago:20231011T235900
LOCATION:Rifle Range 4
SUMMARY:(5:00 - 7:00 p.m.) Rifle Range 4 Closed for Training Activity
END:VEVENT
END:VCALENDAR
