BEGIN:VCALENDAR
VERSION:2.0
PRODID:-//lincolnikes.com//NONSGML kigkonsult.se iCalcreator 2.30.10//
CALSCALE:GREGORIAN
METHOD:PUBLISH
UID:64b75c05-1bd6-4210-a542-0a4a40a9889e
X-WR-CALDESC:
X-WR-RELCALID:023390af46ce9f3a144f1017c7b0e3e0
X-WR-TIMEZONE:America/Chicago
BEGIN:VTIMEZONE
TZID:America/Chicago
BEGIN:STANDARD
TZNAME:CST
DTSTART:20221106T020000
TZOFFSETFROM:-0500
TZOFFSETTO:-0600
RDATE:20231105T020000
RDATE:20241103T020000
END:STANDARD
BEGIN:DAYLIGHT
TZNAME:CDT
DTSTART:20230312T020000
TZOFFSETFROM:-0600
TZOFFSETTO:-0500
RDATE:20240310T020000
RDATE:20250309T020000
END:DAYLIGHT
END:VTIMEZONE
BEGIN:VEVENT
UID:6cee902e-9c8b-49ff-96fc-068285b366dc
DTSTAMP:20260422T212118Z
DESCRIPTION:
DTSTART;TZID=America/Chicago:20231012T000000
DTEND;TZID=America/Chicago:20231012T235900
LOCATION:Lincoln Ikes Trap Range & Clubhouse
SUMMARY:CANCELED DUE TO WEATHER: Ikes Fall Trap League (All Traps & Clubhou
 se)
END:VEVENT
END:VCALENDAR
