BEGIN:VCALENDAR
VERSION:2.0
PRODID:-//lincolnikes.com//NONSGML kigkonsult.se iCalcreator 2.30.10//
CALSCALE:GREGORIAN
METHOD:PUBLISH
UID:b7b38c83-4b71-4427-9626-70254cfc524c
X-WR-CALDESC:
X-WR-RELCALID:339c91f55d1af126be173cea8cf89eee
X-WR-TIMEZONE:America/Chicago
BEGIN:VTIMEZONE
TZID:America/Chicago
BEGIN:STANDARD
TZNAME:CST
DTSTART:20221106T020000
TZOFFSETFROM:-0500
TZOFFSETTO:-0600
RDATE:20231105T020000
RDATE:20241103T020000
END:STANDARD
BEGIN:DAYLIGHT
TZNAME:CDT
DTSTART:20230312T020000
TZOFFSETFROM:-0600
TZOFFSETTO:-0500
RDATE:20240310T020000
RDATE:20250309T020000
END:DAYLIGHT
END:VTIMEZONE
BEGIN:VEVENT
UID:7c7f72b9-9345-4f72-826a-4619e296cfdf
DTSTAMP:20260422T212702Z
DESCRIPTION:
DTSTART;TZID=America/Chicago:20231014T090000
DTEND;TZID=America/Chicago:20231014T110000
LOCATION:Lincoln Ikes Rifle Range 4
SUMMARY:CMP Rimfire Sporter Rifle (Range 4)
END:VEVENT
END:VCALENDAR
