BEGIN:VCALENDAR
VERSION:2.0
PRODID:-//lincolnikes.com//NONSGML kigkonsult.se iCalcreator 2.30.10//
CALSCALE:GREGORIAN
METHOD:PUBLISH
UID:0a1d4351-3fd8-4744-9f12-0510deeed227
X-WR-CALDESC:
X-WR-RELCALID:86db37d747e5a13194c7fe783600e814
X-WR-TIMEZONE:America/Chicago
BEGIN:VTIMEZONE
TZID:America/Chicago
BEGIN:STANDARD
TZNAME:CST
DTSTART:20221106T020000
TZOFFSETFROM:-0500
TZOFFSETTO:-0600
RDATE:20231105T020000
RDATE:20241103T020000
END:STANDARD
BEGIN:DAYLIGHT
TZNAME:CDT
DTSTART:20230312T020000
TZOFFSETFROM:-0600
TZOFFSETTO:-0500
RDATE:20240310T020000
RDATE:20250309T020000
END:DAYLIGHT
END:VTIMEZONE
BEGIN:VEVENT
UID:369852ab-1ba9-4e86-b043-7a72a8f86446
DTSTAMP:20260422T211719Z
DESCRIPTION:
DTSTART;TZID=America/Chicago:20231014T120000
DTEND;TZID=America/Chicago:20231014T183000
LOCATION:Lincoln Ikes Rifle Range 4
SUMMARY:12:00noon - Sunset: Bowling Pin Match (Range 4)
END:VEVENT
END:VCALENDAR
