BEGIN:VCALENDAR
VERSION:2.0
PRODID:-//lincolnikes.com//NONSGML kigkonsult.se iCalcreator 2.30.10//
CALSCALE:GREGORIAN
METHOD:PUBLISH
UID:df0d3842-1701-4c0a-8d36-d9931de222d4
X-WR-CALDESC:
X-WR-RELCALID:195624892af831f6f74668f64a722395
X-WR-TIMEZONE:America/Chicago
BEGIN:VTIMEZONE
TZID:America/Chicago
BEGIN:STANDARD
TZNAME:CST
DTSTART:20221106T020000
TZOFFSETFROM:-0500
TZOFFSETTO:-0600
RDATE:20231105T020000
RDATE:20241103T020000
END:STANDARD
BEGIN:DAYLIGHT
TZNAME:CDT
DTSTART:20230312T020000
TZOFFSETFROM:-0600
TZOFFSETTO:-0500
RDATE:20240310T020000
RDATE:20250309T020000
END:DAYLIGHT
END:VTIMEZONE
BEGIN:VEVENT
UID:77be627b-a859-48ee-8b14-374de8220d83
DTSTAMP:20260422T212722Z
DESCRIPTION:
DTSTART;TZID=America/Chicago:20231014T000000
DTEND;TZID=America/Chicago:20231014T235900
LOCATION:Lincoln Ikes Trap Range & Clubhouse
SUMMARY:Lincoln Ikes  ATA Trap Shoot (All Traps & Clubhouse)
END:VEVENT
END:VCALENDAR
