BEGIN:VCALENDAR
VERSION:2.0
PRODID:-//lincolnikes.com//NONSGML kigkonsult.se iCalcreator 2.30.10//
CALSCALE:GREGORIAN
METHOD:PUBLISH
UID:2666a569-30cc-49bd-ac21-e48e5ae8b545
X-WR-CALDESC:
X-WR-RELCALID:5ea20db2eb36b3b2ac7082fc50112c2c
X-WR-TIMEZONE:America/Chicago
BEGIN:VTIMEZONE
TZID:America/Chicago
BEGIN:STANDARD
TZNAME:CST
DTSTART:20221106T020000
TZOFFSETFROM:-0500
TZOFFSETTO:-0600
RDATE:20231105T020000
RDATE:20241103T020000
END:STANDARD
BEGIN:DAYLIGHT
TZNAME:CDT
DTSTART:20230312T020000
TZOFFSETFROM:-0600
TZOFFSETTO:-0500
RDATE:20240310T020000
RDATE:20250309T020000
END:DAYLIGHT
END:VTIMEZONE
BEGIN:VEVENT
UID:b0197376-c515-4862-9873-44b7e71827c4
DTSTAMP:20260422T212013Z
DESCRIPTION:
DTSTART;TZID=America/Chicago:20231017T000000
DTEND;TZID=America/Chicago:20231017T235900
LOCATION:Rifle Range 4
SUMMARY:(5:00 - 7:00 p.m.) Rifle Range 4 Closed for Training Activity
END:VEVENT
END:VCALENDAR
