BEGIN:VCALENDAR
VERSION:2.0
PRODID:-//lincolnikes.com//NONSGML kigkonsult.se iCalcreator 2.30.10//
CALSCALE:GREGORIAN
METHOD:PUBLISH
UID:04a9557a-c763-4c15-83a6-9e1ce4be68b9
X-WR-CALDESC:
X-WR-RELCALID:d843583ce81c65c899bc3cc45b9c44ef
X-WR-TIMEZONE:America/Chicago
BEGIN:VTIMEZONE
TZID:America/Chicago
BEGIN:STANDARD
TZNAME:CST
DTSTART:20221106T020000
TZOFFSETFROM:-0500
TZOFFSETTO:-0600
RDATE:20231105T020000
RDATE:20241103T020000
END:STANDARD
BEGIN:DAYLIGHT
TZNAME:CDT
DTSTART:20230312T020000
TZOFFSETFROM:-0600
TZOFFSETTO:-0500
RDATE:20240310T020000
RDATE:20250309T020000
END:DAYLIGHT
END:VTIMEZONE
BEGIN:VEVENT
UID:632270a2-83a8-49e3-a0ff-791ac66980f5
DTSTAMP:20260422T212553Z
DESCRIPTION:
DTSTART;TZID=America/Chicago:20231026T180000
DTEND;TZID=America/Chicago:20231026T220000
LOCATION:Lincoln Ikes Trap Range & Clubhouse
SUMMARY:Ikes Fall Trap League (All Traps & Clubhouse)
END:VEVENT
END:VCALENDAR
