BEGIN:VCALENDAR
VERSION:2.0
PRODID:-//lincolnikes.com//NONSGML kigkonsult.se iCalcreator 2.30.10//
CALSCALE:GREGORIAN
METHOD:PUBLISH
UID:ca99c1c5-d173-48c7-b558-8f8746742c1c
X-WR-CALDESC:
X-WR-RELCALID:586e99e2762da3a62999fe75b2a01080
X-WR-TIMEZONE:America/Chicago
BEGIN:VTIMEZONE
TZID:America/Chicago
BEGIN:STANDARD
TZNAME:CST
DTSTART:20231105T020000
TZOFFSETFROM:-0500
TZOFFSETTO:-0600
RDATE:20241103T020000
END:STANDARD
BEGIN:DAYLIGHT
TZNAME:CDT
DTSTART:20230312T020000
TZOFFSETFROM:-0600
TZOFFSETTO:-0500
RDATE:20240310T020000
RDATE:20250309T020000
END:DAYLIGHT
END:VTIMEZONE
BEGIN:VEVENT
UID:3ded0b75-75fe-4b87-acf2-dc69168f65c5
DTSTAMP:20260422T230846Z
DESCRIPTION:
DTSTART;TZID=America/Chicago:20231125T070000
DTEND;TZID=America/Chicago:20231125T150000
LOCATION:Lincoln Ikes Rifle Ranges 1 & 4
SUMMARY:UML 2-Gun Competition (Ranges 1 & 4)
END:VEVENT
END:VCALENDAR
