BEGIN:VCALENDAR
VERSION:2.0
PRODID:-//lincolnikes.com//NONSGML kigkonsult.se iCalcreator 2.30.10//
CALSCALE:GREGORIAN
METHOD:PUBLISH
UID:5b21ff91-9b27-455f-bcc0-8c3ade333d30
X-WR-CALDESC:
X-WR-RELCALID:35ccacdef3ae9bfdf0f0c1ab94005c38
X-WR-TIMEZONE:America/Chicago
BEGIN:VTIMEZONE
TZID:America/Chicago
BEGIN:STANDARD
TZNAME:CST
DTSTART:20231105T020000
TZOFFSETFROM:-0500
TZOFFSETTO:-0600
RDATE:20241103T020000
RDATE:20251102T020000
END:STANDARD
BEGIN:DAYLIGHT
TZNAME:CDT
DTSTART:20240310T020000
TZOFFSETFROM:-0600
TZOFFSETTO:-0500
RDATE:20250309T020000
END:DAYLIGHT
END:VTIMEZONE
BEGIN:VEVENT
UID:af7777be-91ef-4e70-8d9e-08c4da345915
DTSTAMP:20260423T134838Z
DESCRIPTION:
DTSTART;TZID=America/Chicago:20240608T090000
DTEND;TZID=America/Chicago:20240608T110000
LOCATION:Lincoln Ikes Rifle Range 2
SUMMARY:CMP Rimfire Sporter Rifle (Rifle Range 2)
END:VEVENT
END:VCALENDAR
