BEGIN:VCALENDAR
VERSION:2.0
PRODID:-//lincolnikes.com//NONSGML kigkonsult.se iCalcreator 2.30.10//
CALSCALE:GREGORIAN
METHOD:PUBLISH
UID:a6347318-341a-4d63-b0fa-50c650595e50
X-WR-CALDESC:
X-WR-RELCALID:4fc89622e502bfab8d27a2e674bec0a7
X-WR-TIMEZONE:America/Chicago
BEGIN:VTIMEZONE
TZID:America/Chicago
BEGIN:STANDARD
TZNAME:CST
DTSTART:20231105T020000
TZOFFSETFROM:-0500
TZOFFSETTO:-0600
RDATE:20241103T020000
RDATE:20251102T020000
END:STANDARD
BEGIN:DAYLIGHT
TZNAME:CDT
DTSTART:20240310T020000
TZOFFSETFROM:-0600
TZOFFSETTO:-0500
RDATE:20250309T020000
END:DAYLIGHT
END:VTIMEZONE
BEGIN:VEVENT
UID:77170119-1b09-44ec-a5a8-36de82c630ab
DTSTAMP:20260419T163413Z
DESCRIPTION:
DTSTART;TZID=America/Chicago:20240623T130000
DTEND;TZID=America/Chicago:20240623T160000
LOCATION:Lincoln Ikes Trap Ranges 6 & 7
SUMMARY:Southside Trap Team Bring-A-Friend to Learn Trap Shooting (Traps 6 
 & 7)
END:VEVENT
END:VCALENDAR
