BEGIN:VCALENDAR
VERSION:2.0
PRODID:-//lincolnikes.com//NONSGML kigkonsult.se iCalcreator 2.30.10//
CALSCALE:GREGORIAN
METHOD:PUBLISH
UID:7df18e23-6515-4f5d-a4b5-7840f690d2a8
X-WR-CALDESC:
X-WR-RELCALID:97fa3b89111f005b80eb33cc10f3e72b
X-WR-TIMEZONE:America/Chicago
BEGIN:VTIMEZONE
TZID:America/Chicago
BEGIN:STANDARD
TZNAME:CST
DTSTART:20231105T020000
TZOFFSETFROM:-0500
TZOFFSETTO:-0600
RDATE:20241103T020000
RDATE:20251102T020000
END:STANDARD
BEGIN:DAYLIGHT
TZNAME:CDT
DTSTART:20240310T020000
TZOFFSETFROM:-0600
TZOFFSETTO:-0500
RDATE:20250309T020000
END:DAYLIGHT
END:VTIMEZONE
BEGIN:VEVENT
UID:94a2eb0d-5b59-4d8a-9f32-7c9f2bfed6b5
DTSTAMP:20260423T042725Z
DESCRIPTION:
DTSTART;TZID=America/Chicago:20240711T180000
DTEND;TZID=America/Chicago:20240711T220000
LOCATION:10801 South 134th Street\, Bennet\, NE 68317 US
SUMMARY:Summer Trap League (All Traps & Clubhouse)
END:VEVENT
END:VCALENDAR
