BEGIN:VCALENDAR
VERSION:2.0
PRODID:-//lincolnikes.com//NONSGML kigkonsult.se iCalcreator 2.30.10//
CALSCALE:GREGORIAN
METHOD:PUBLISH
UID:71e7ef71-7a08-435c-8f1f-10c62ea8d730
X-WR-CALDESC:
X-WR-RELCALID:d073566ca7d044d74c9bfcdbb11d2f6a
X-WR-TIMEZONE:America/Chicago
BEGIN:VTIMEZONE
TZID:America/Chicago
BEGIN:STANDARD
TZNAME:CST
DTSTART:20231105T020000
TZOFFSETFROM:-0500
TZOFFSETTO:-0600
RDATE:20241103T020000
RDATE:20251102T020000
END:STANDARD
BEGIN:DAYLIGHT
TZNAME:CDT
DTSTART:20240310T020000
TZOFFSETFROM:-0600
TZOFFSETTO:-0500
RDATE:20250309T020000
END:DAYLIGHT
END:VTIMEZONE
BEGIN:VEVENT
UID:cbfc31e0-5c41-4f50-b4e7-f6f5bc82a977
DTSTAMP:20260421T175303Z
DESCRIPTION:
DTSTART;TZID=America/Chicago:20240721T070000
DTEND;TZID=America/Chicago:20240721T143000
LOCATION:10801 South 134th Street\, Bennet\, NE 68317 US
SUMMARY:Cornhusker State Games .22 Silhouettes (Rifle Range 4)
END:VEVENT
END:VCALENDAR
