BEGIN:VCALENDAR
VERSION:2.0
PRODID:-//lincolnikes.com//NONSGML kigkonsult.se iCalcreator 2.30.10//
CALSCALE:GREGORIAN
METHOD:PUBLISH
UID:7686b6e8-ad3a-443a-81b7-264c2e475b6d
X-WR-CALDESC:
X-WR-RELCALID:90df4424475603e1b1a88dfeedd3bb10
X-WR-TIMEZONE:America/Chicago
BEGIN:VTIMEZONE
TZID:America/Chicago
BEGIN:STANDARD
TZNAME:CST
DTSTART:20231105T020000
TZOFFSETFROM:-0500
TZOFFSETTO:-0600
RDATE:20241103T020000
RDATE:20251102T020000
END:STANDARD
BEGIN:DAYLIGHT
TZNAME:CDT
DTSTART:20240310T020000
TZOFFSETFROM:-0600
TZOFFSETTO:-0500
RDATE:20250309T020000
END:DAYLIGHT
END:VTIMEZONE
BEGIN:VEVENT
UID:8a7ae9d8-698c-4232-9732-5907b2f17ba0
DTSTAMP:20260422T060409Z
DESCRIPTION:
DTSTART;TZID=America/Chicago:20240803T080000
DTEND;TZID=America/Chicago:20240803T150000
LOCATION:
SUMMARY:Club Benchrest 300-Yard (Range 4)
END:VEVENT
END:VCALENDAR
