BEGIN:VCALENDAR
VERSION:2.0
PRODID:-//lincolnikes.com//NONSGML kigkonsult.se iCalcreator 2.30.10//
CALSCALE:GREGORIAN
METHOD:PUBLISH
UID:8d47b6fe-71a9-463e-b252-5978a0536de1
X-WR-CALDESC:
X-WR-RELCALID:58499697e7de3c91c5265e01c2d8ecea
X-WR-TIMEZONE:America/Chicago
BEGIN:VTIMEZONE
TZID:America/Chicago
BEGIN:STANDARD
TZNAME:CST
DTSTART:20231105T020000
TZOFFSETFROM:-0500
TZOFFSETTO:-0600
RDATE:20241103T020000
RDATE:20251102T020000
END:STANDARD
BEGIN:DAYLIGHT
TZNAME:CDT
DTSTART:20240310T020000
TZOFFSETFROM:-0600
TZOFFSETTO:-0500
RDATE:20250309T020000
END:DAYLIGHT
END:VTIMEZONE
BEGIN:VEVENT
UID:9e54d72d-e1f4-4817-9be3-038b975fc8ec
DTSTAMP:20260426T020109Z
DESCRIPTION:
DTSTART;TZID=America/Chicago:20240820T170000
DTEND;TZID=America/Chicago:20240820T190000
LOCATION:Lincoln Ikes Clubhouse\, Trap #2\, & Shotgun Patterning Board
SUMMARY:Trap #2\, Shotgun Patterning Board & Clubhouse Closed for Training 
 Activities
END:VEVENT
END:VCALENDAR
