BEGIN:VCALENDAR
VERSION:2.0
PRODID:-//lincolnikes.com//NONSGML kigkonsult.se iCalcreator 2.30.10//
CALSCALE:GREGORIAN
METHOD:PUBLISH
UID:5904a0e4-455a-4b29-beed-8bc6c1c7f28c
X-WR-CALDESC:
X-WR-RELCALID:94a7d458522dea279c68f910cec268de
X-WR-TIMEZONE:America/Chicago
BEGIN:VTIMEZONE
TZID:America/Chicago
BEGIN:STANDARD
TZNAME:CST
DTSTART:20231105T020000
TZOFFSETFROM:-0500
TZOFFSETTO:-0600
RDATE:20241103T020000
RDATE:20251102T020000
END:STANDARD
BEGIN:DAYLIGHT
TZNAME:CDT
DTSTART:20240310T020000
TZOFFSETFROM:-0600
TZOFFSETTO:-0500
RDATE:20250309T020000
END:DAYLIGHT
END:VTIMEZONE
BEGIN:VEVENT
UID:e02930f4-cc5d-4be2-9f65-4b2dd4312e4d
DTSTAMP:20260423T214513Z
DESCRIPTION:
DTSTART;TZID=America/Chicago:20240827T140000
DTEND;TZID=America/Chicago:20240827T170000
LOCATION:Lincoln Ikes Rifle Range 4
SUMMARY:Rifle Range 4 Closed for Training Activity
END:VEVENT
END:VCALENDAR
