BEGIN:VCALENDAR
VERSION:2.0
PRODID:-//lincolnikes.com//NONSGML kigkonsult.se iCalcreator 2.30.10//
CALSCALE:GREGORIAN
METHOD:PUBLISH
UID:676c3879-517c-4aec-b35e-9bbed34df10d
X-WR-CALDESC:
X-WR-RELCALID:50e60b209846322b22d389fd9da8cd9e
X-WR-TIMEZONE:America/Chicago
BEGIN:VTIMEZONE
TZID:America/Chicago
BEGIN:STANDARD
TZNAME:CST
DTSTART:20231105T020000
TZOFFSETFROM:-0500
TZOFFSETTO:-0600
RDATE:20241103T020000
RDATE:20251102T020000
END:STANDARD
BEGIN:DAYLIGHT
TZNAME:CDT
DTSTART:20240310T020000
TZOFFSETFROM:-0600
TZOFFSETTO:-0500
RDATE:20250309T020000
RDATE:20260308T020000
END:DAYLIGHT
END:VTIMEZONE
BEGIN:VEVENT
UID:33eb0f15-bde2-4708-8c01-b0a7778cc5a1
DTSTAMP:20260421T185846Z
DESCRIPTION:
DTSTART;TZID=America/Chicago:20240928T070000
DTEND;TZID=America/Chicago:20240928T120000
LOCATION:Lincoln Ikes Rifle/Pistol Range 1
SUMMARY:.22 Challenge (Rifle Range 1) (Registration @ 8:30 am\; Shooting @ 
 9 am)
END:VEVENT
END:VCALENDAR
