BEGIN:VCALENDAR
VERSION:2.0
PRODID:-//lincolnikes.com//NONSGML kigkonsult.se iCalcreator 2.30.10//
CALSCALE:GREGORIAN
METHOD:PUBLISH
UID:29a727bb-d429-443c-ad3b-5abd5f1b5671
X-WR-CALDESC:
X-WR-RELCALID:b86ab7621d9243eb693f1f0bae699976
X-WR-TIMEZONE:America/Chicago
BEGIN:VTIMEZONE
TZID:America/Chicago
BEGIN:STANDARD
TZNAME:CST
DTSTART:20231105T020000
TZOFFSETFROM:-0500
TZOFFSETTO:-0600
RDATE:20241103T020000
RDATE:20251102T020000
END:STANDARD
BEGIN:DAYLIGHT
TZNAME:CDT
DTSTART:20240310T020000
TZOFFSETFROM:-0600
TZOFFSETTO:-0500
RDATE:20250309T020000
RDATE:20260308T020000
END:DAYLIGHT
END:VTIMEZONE
BEGIN:VEVENT
UID:1e9cac62-d994-4177-8853-7da2b0466a6c
DTSTAMP:20260425T114534Z
DESCRIPTION:
DTSTART;TZID=America/Chicago:20241003T180000
DTEND;TZID=America/Chicago:20241003T220000
LOCATION:10801 South 134th Street\, Bennet\, NE 68317 US
SUMMARY:Fall Trap League (All Traps & Clubhouse)
END:VEVENT
END:VCALENDAR
