BEGIN:VCALENDAR
VERSION:2.0
PRODID:-//lincolnikes.com//NONSGML kigkonsult.se iCalcreator 2.30.10//
CALSCALE:GREGORIAN
METHOD:PUBLISH
UID:e0d276da-f4e1-44fd-b533-ad87a83d1164
X-WR-CALDESC:
X-WR-RELCALID:c6574575fae9283450dd1766503e209e
X-WR-TIMEZONE:America/Chicago
BEGIN:VTIMEZONE
TZID:America/Chicago
BEGIN:STANDARD
TZNAME:CST
DTSTART:20231105T020000
TZOFFSETFROM:-0500
TZOFFSETTO:-0600
RDATE:20241103T020000
RDATE:20251102T020000
END:STANDARD
BEGIN:DAYLIGHT
TZNAME:CDT
DTSTART:20240310T020000
TZOFFSETFROM:-0600
TZOFFSETTO:-0500
RDATE:20250309T020000
RDATE:20260308T020000
END:DAYLIGHT
END:VTIMEZONE
BEGIN:VEVENT
UID:d879bf46-292c-4dbb-bc7f-4a5d0627d4f5
DTSTAMP:20260422T002739Z
DESCRIPTION:
DTSTART;TZID=America/Chicago:20241008T170000
DTEND;TZID=America/Chicago:20241008T190000
LOCATION:Lincoln Ikes Clubhouse & Traps 4-7
SUMMARY:Southside Trap Team Practice (Clubhouse & Traps 4-7) (Lyons)
END:VEVENT
END:VCALENDAR
