BEGIN:VCALENDAR
VERSION:2.0
PRODID:-//lincolnikes.com//NONSGML kigkonsult.se iCalcreator 2.30.10//
CALSCALE:GREGORIAN
METHOD:PUBLISH
UID:aa6ce043-9f48-482d-a6ee-7e5ea5cfdefc
X-WR-CALDESC:
X-WR-RELCALID:e1362e8b3853b3aca8cebaebf669e25b
X-WR-TIMEZONE:America/Chicago
BEGIN:VTIMEZONE
TZID:America/Chicago
BEGIN:STANDARD
TZNAME:CST
DTSTART:20231105T020000
TZOFFSETFROM:-0500
TZOFFSETTO:-0600
RDATE:20241103T020000
RDATE:20251102T020000
END:STANDARD
BEGIN:DAYLIGHT
TZNAME:CDT
DTSTART:20240310T020000
TZOFFSETFROM:-0600
TZOFFSETTO:-0500
RDATE:20250309T020000
RDATE:20260308T020000
END:DAYLIGHT
END:VTIMEZONE
BEGIN:VEVENT
UID:98590d5b-be1b-409f-81a4-15163e480e9b
DTSTAMP:20260425T152236Z
DESCRIPTION:
DTSTART;TZID=America/Chicago:20241015T170000
DTEND;TZID=America/Chicago:20241015T190000
LOCATION:Lincoln Ikes Clubhouse & Traps 4-7
SUMMARY:Southside Trap Team Practice (Clubhouse & Traps 4-7) (Lyons)
END:VEVENT
END:VCALENDAR
